BEGIN:VCALENDAR
VERSION:2.0
PRODID:-//repaircafekerkenzanen.nl - ECPv6.15.20//NONSGML v1.0//EN
CALSCALE:GREGORIAN
METHOD:PUBLISH
X-WR-CALNAME:repaircafekerkenzanen.nl
X-ORIGINAL-URL:https://repaircafekerkenzanen.nl
X-WR-CALDESC:Evenementen voor repaircafekerkenzanen.nl
REFRESH-INTERVAL;VALUE=DURATION:PT1H
X-Robots-Tag:noindex
X-PUBLISHED-TTL:PT1H
BEGIN:VTIMEZONE
TZID:Europe/Amsterdam
BEGIN:DAYLIGHT
TZOFFSETFROM:+0100
TZOFFSETTO:+0200
TZNAME:CEST
DTSTART:20250330T010000
END:DAYLIGHT
BEGIN:STANDARD
TZOFFSETFROM:+0200
TZOFFSETTO:+0100
TZNAME:CET
DTSTART:20251026T010000
END:STANDARD
BEGIN:DAYLIGHT
TZOFFSETFROM:+0100
TZOFFSETTO:+0200
TZNAME:CEST
DTSTART:20260329T010000
END:DAYLIGHT
BEGIN:STANDARD
TZOFFSETFROM:+0200
TZOFFSETTO:+0100
TZNAME:CET
DTSTART:20261025T010000
END:STANDARD
BEGIN:DAYLIGHT
TZOFFSETFROM:+0100
TZOFFSETTO:+0200
TZNAME:CEST
DTSTART:20270328T010000
END:DAYLIGHT
BEGIN:STANDARD
TZOFFSETFROM:+0200
TZOFFSETTO:+0100
TZNAME:CET
DTSTART:20271031T010000
END:STANDARD
END:VTIMEZONE
BEGIN:VEVENT
DTSTART;TZID=Europe/Amsterdam:20260401T193000
DTEND;TZID=Europe/Amsterdam:20260401T213000
DTSTAMP:20260424T131139
CREATED:20260121T083607Z
LAST-MODIFIED:20260121T142054Z
UID:740-1775071800-1775079000@repaircafekerkenzanen.nl
SUMMARY:Repair Café
DESCRIPTION:Een klein defect aan wat dan ook; wij zien de uitdaging van het repareren. Laat je verrassen en kom langs.
URL:https://repaircafekerkenzanen.nl/activiteit/repair-cafe-8/
LOCATION:Zaal 5
CATEGORIES:Repair Café
END:VEVENT
BEGIN:VEVENT
DTSTART;TZID=Europe/Amsterdam:20260420T100000
DTEND;TZID=Europe/Amsterdam:20260420T120000
DTSTAMP:20260424T131139
CREATED:20260121T083607Z
LAST-MODIFIED:20260121T142054Z
UID:741-1776679200-1776686400@repaircafekerkenzanen.nl
SUMMARY:Repair Café
DESCRIPTION:Een klein defect aan wat dan ook; wij zien de uitdaging van het repareren. Laat je verrassen en kom langs.
URL:https://repaircafekerkenzanen.nl/activiteit/repair-cafe-9/
LOCATION:Zaal 5
CATEGORIES:Repair Café
END:VEVENT
BEGIN:VEVENT
DTSTART;TZID=Europe/Amsterdam:20260506T193000
DTEND;TZID=Europe/Amsterdam:20260506T213000
DTSTAMP:20260424T131139
CREATED:20260121T083607Z
LAST-MODIFIED:20260121T142054Z
UID:742-1778095800-1778103000@repaircafekerkenzanen.nl
SUMMARY:Repair Café
DESCRIPTION:Een klein defect aan wat dan ook; wij zien de uitdaging van het repareren. Laat je verrassen en kom langs.
URL:https://repaircafekerkenzanen.nl/activiteit/repair-cafe-10/
LOCATION:Zaal 5
CATEGORIES:Repair Café
END:VEVENT
BEGIN:VEVENT
DTSTART;TZID=Europe/Amsterdam:20260518T100000
DTEND;TZID=Europe/Amsterdam:20260518T120000
DTSTAMP:20260424T131139
CREATED:20260121T083607Z
LAST-MODIFIED:20260121T142054Z
UID:743-1779098400-1779105600@repaircafekerkenzanen.nl
SUMMARY:Repair Café
DESCRIPTION:Een klein defect aan wat dan ook; wij zien de uitdaging van het repareren. Laat je verrassen en kom langs.
URL:https://repaircafekerkenzanen.nl/activiteit/repair-cafe-11/
LOCATION:Zaal 5
CATEGORIES:Repair Café
END:VEVENT
BEGIN:VEVENT
DTSTART;TZID=Europe/Amsterdam:20260602T193000
DTEND;TZID=Europe/Amsterdam:20260602T213000
DTSTAMP:20260424T131139
CREATED:20260121T083619Z
LAST-MODIFIED:20260121T142055Z
UID:749-1780428600-1780435800@repaircafekerkenzanen.nl
SUMMARY:Repair Café
DESCRIPTION:Een klein defect aan wat dan ook; wij zien de uitdaging van het repareren. Laat je verrassen en kom langs.
URL:https://repaircafekerkenzanen.nl/activiteit/repair-cafe-13/
LOCATION:Zaal 5
CATEGORIES:Repair Café
END:VEVENT
BEGIN:VEVENT
DTSTART;TZID=Europe/Amsterdam:20260615T100000
DTEND;TZID=Europe/Amsterdam:20260615T120000
DTSTAMP:20260424T131139
CREATED:20260121T083620Z
LAST-MODIFIED:20260121T142055Z
UID:750-1781517600-1781524800@repaircafekerkenzanen.nl
SUMMARY:Repair Café
DESCRIPTION:Een klein defect aan wat dan ook; wij zien de uitdaging van het repareren. Laat je verrassen en kom langs.
URL:https://repaircafekerkenzanen.nl/activiteit/repair-cafe-14/
LOCATION:Zaal 5
CATEGORIES:Repair Café
END:VEVENT
BEGIN:VEVENT
DTSTART;TZID=Europe/Amsterdam:20260701T193000
DTEND;TZID=Europe/Amsterdam:20260701T213000
DTSTAMP:20260424T131139
CREATED:20260121T083620Z
LAST-MODIFIED:20260121T142055Z
UID:751-1782934200-1782941400@repaircafekerkenzanen.nl
SUMMARY:Repair Café
DESCRIPTION:Een klein defect aan wat dan ook; wij zien de uitdaging van het repareren. Laat je verrassen en kom langs.
URL:https://repaircafekerkenzanen.nl/activiteit/repair-cafe-15/
LOCATION:Zaal 5
CATEGORIES:Repair Café
END:VEVENT
BEGIN:VEVENT
DTSTART;TZID=Europe/Amsterdam:20260720T100000
DTEND;TZID=Europe/Amsterdam:20260720T120000
DTSTAMP:20260424T131139
CREATED:20260121T083620Z
LAST-MODIFIED:20260121T142055Z
UID:752-1784541600-1784548800@repaircafekerkenzanen.nl
SUMMARY:Repair Café
DESCRIPTION:Een klein defect aan wat dan ook; wij zien de uitdaging van het repareren. Laat je verrassen en kom langs.
URL:https://repaircafekerkenzanen.nl/activiteit/repair-cafe-16/
LOCATION:Zaal 5
CATEGORIES:Repair Café
END:VEVENT
BEGIN:VEVENT
DTSTART;TZID=Europe/Amsterdam:20260805T193000
DTEND;TZID=Europe/Amsterdam:20260805T213000
DTSTAMP:20260424T131139
CREATED:20260121T083620Z
LAST-MODIFIED:20260121T142055Z
UID:753-1785958200-1785965400@repaircafekerkenzanen.nl
SUMMARY:Repair Café
DESCRIPTION:Een klein defect aan wat dan ook; wij zien de uitdaging van het repareren. Laat je verrassen en kom langs.
URL:https://repaircafekerkenzanen.nl/activiteit/repair-cafe-17/
LOCATION:Zaal 5
CATEGORIES:Repair Café
END:VEVENT
BEGIN:VEVENT
DTSTART;TZID=Europe/Amsterdam:20260817T100000
DTEND;TZID=Europe/Amsterdam:20260817T120000
DTSTAMP:20260424T131139
CREATED:20260121T083701Z
LAST-MODIFIED:20260121T142110Z
UID:754-1786960800-1786968000@repaircafekerkenzanen.nl
SUMMARY:Repair Café
DESCRIPTION:Een klein defect aan wat dan ook; wij zien de uitdaging van het repareren. Laat je verrassen en kom langs.
URL:https://repaircafekerkenzanen.nl/activiteit/repair-cafe-18/
LOCATION:Zaal 5
CATEGORIES:Repair Café
END:VEVENT
BEGIN:VEVENT
DTSTART;TZID=Europe/Amsterdam:20260902T193000
DTEND;TZID=Europe/Amsterdam:20260902T213000
DTSTAMP:20260424T131139
CREATED:20260121T083701Z
LAST-MODIFIED:20260121T142110Z
UID:755-1788377400-1788384600@repaircafekerkenzanen.nl
SUMMARY:Repair Café
DESCRIPTION:Een klein defect aan wat dan ook; wij zien de uitdaging van het repareren. Laat je verrassen en kom langs.
URL:https://repaircafekerkenzanen.nl/activiteit/repair-cafe-19/
LOCATION:Zaal 5
CATEGORIES:Repair Café
END:VEVENT
BEGIN:VEVENT
DTSTART;TZID=Europe/Amsterdam:20260921T100000
DTEND;TZID=Europe/Amsterdam:20260921T120000
DTSTAMP:20260424T131139
CREATED:20260121T083701Z
LAST-MODIFIED:20260121T142110Z
UID:756-1789984800-1789992000@repaircafekerkenzanen.nl
SUMMARY:Repair Café
DESCRIPTION:Een klein defect aan wat dan ook; wij zien de uitdaging van het repareren. Laat je verrassen en kom langs.
URL:https://repaircafekerkenzanen.nl/activiteit/repair-cafe-20/
LOCATION:Zaal 5
CATEGORIES:Repair Café
END:VEVENT
BEGIN:VEVENT
DTSTART;TZID=Europe/Amsterdam:20261007T193000
DTEND;TZID=Europe/Amsterdam:20261007T213000
DTSTAMP:20260424T131139
CREATED:20260121T083701Z
LAST-MODIFIED:20260121T142110Z
UID:757-1791401400-1791408600@repaircafekerkenzanen.nl
SUMMARY:Repair Café
DESCRIPTION:Een klein defect aan wat dan ook; wij zien de uitdaging van het repareren. Laat je verrassen en kom langs.
URL:https://repaircafekerkenzanen.nl/activiteit/repair-cafe-21/
LOCATION:Zaal 5
CATEGORIES:Repair Café
END:VEVENT
BEGIN:VEVENT
DTSTART;TZID=Europe/Amsterdam:20261019T100000
DTEND;TZID=Europe/Amsterdam:20261019T120000
DTSTAMP:20260424T131139
CREATED:20260121T083702Z
LAST-MODIFIED:20260121T142110Z
UID:758-1792404000-1792411200@repaircafekerkenzanen.nl
SUMMARY:Repair Café
DESCRIPTION:Een klein defect aan wat dan ook; wij zien de uitdaging van het repareren. Laat je verrassen en kom langs.
URL:https://repaircafekerkenzanen.nl/activiteit/repair-cafe-22/
LOCATION:Zaal 5
CATEGORIES:Repair Café
END:VEVENT
BEGIN:VEVENT
DTSTART;TZID=Europe/Amsterdam:20261104T193000
DTEND;TZID=Europe/Amsterdam:20261104T213000
DTSTAMP:20260424T131139
CREATED:20260121T083716Z
LAST-MODIFIED:20260121T142126Z
UID:759-1793820600-1793827800@repaircafekerkenzanen.nl
SUMMARY:Repair Café
DESCRIPTION:Een klein defect aan wat dan ook; wij zien de uitdaging van het repareren. Laat je verrassen en kom langs.
URL:https://repaircafekerkenzanen.nl/activiteit/repair-cafe-23/
LOCATION:Zaal 5
CATEGORIES:Repair Café
END:VEVENT
BEGIN:VEVENT
DTSTART;TZID=Europe/Amsterdam:20261123T100000
DTEND;TZID=Europe/Amsterdam:20261123T120000
DTSTAMP:20260424T131139
CREATED:20260121T083716Z
LAST-MODIFIED:20260121T142126Z
UID:760-1795428000-1795435200@repaircafekerkenzanen.nl
SUMMARY:Repair Café
DESCRIPTION:Een klein defect aan wat dan ook; wij zien de uitdaging van het repareren. Laat je verrassen en kom langs.
URL:https://repaircafekerkenzanen.nl/activiteit/repair-cafe-24/
LOCATION:Zaal 5
CATEGORIES:Repair Café
END:VEVENT
BEGIN:VEVENT
DTSTART;TZID=Europe/Amsterdam:20261202T193000
DTEND;TZID=Europe/Amsterdam:20261202T213000
DTSTAMP:20260424T131139
CREATED:20260121T083716Z
LAST-MODIFIED:20260121T142126Z
UID:761-1796239800-1796247000@repaircafekerkenzanen.nl
SUMMARY:Repair Café
DESCRIPTION:Een klein defect aan wat dan ook; wij zien de uitdaging van het repareren. Laat je verrassen en kom langs.
URL:https://repaircafekerkenzanen.nl/activiteit/repair-cafe-25/
LOCATION:Zaal 5
CATEGORIES:Repair Café
END:VEVENT
BEGIN:VEVENT
DTSTART;TZID=Europe/Amsterdam:20261221T100000
DTEND;TZID=Europe/Amsterdam:20261221T120000
DTSTAMP:20260424T131139
CREATED:20260121T083716Z
LAST-MODIFIED:20260121T142126Z
UID:762-1797847200-1797854400@repaircafekerkenzanen.nl
SUMMARY:Repair Café
DESCRIPTION:Een klein defect aan wat dan ook; wij zien de uitdaging van het repareren. Laat je verrassen en kom langs.
URL:https://repaircafekerkenzanen.nl/activiteit/repair-cafe-26/
LOCATION:Zaal 5
CATEGORIES:Repair Café
END:VEVENT
END:VCALENDAR