BEGIN:VCALENDAR
VERSION:2.0
PRODID:-//repaircafekerkenzanen.nl - ECPv6.15.20//NONSGML v1.0//EN
CALSCALE:GREGORIAN
METHOD:PUBLISH
X-WR-CALNAME:repaircafekerkenzanen.nl
X-ORIGINAL-URL:https://repaircafekerkenzanen.nl
X-WR-CALDESC:Evenementen voor repaircafekerkenzanen.nl
REFRESH-INTERVAL;VALUE=DURATION:PT1H
X-Robots-Tag:noindex
X-PUBLISHED-TTL:PT1H
BEGIN:VTIMEZONE
TZID:Europe/Amsterdam
BEGIN:DAYLIGHT
TZOFFSETFROM:+0100
TZOFFSETTO:+0200
TZNAME:CEST
DTSTART:20250330T010000
END:DAYLIGHT
BEGIN:STANDARD
TZOFFSETFROM:+0200
TZOFFSETTO:+0100
TZNAME:CET
DTSTART:20251026T010000
END:STANDARD
BEGIN:DAYLIGHT
TZOFFSETFROM:+0100
TZOFFSETTO:+0200
TZNAME:CEST
DTSTART:20260329T010000
END:DAYLIGHT
BEGIN:STANDARD
TZOFFSETFROM:+0200
TZOFFSETTO:+0100
TZNAME:CET
DTSTART:20261025T010000
END:STANDARD
BEGIN:DAYLIGHT
TZOFFSETFROM:+0100
TZOFFSETTO:+0200
TZNAME:CEST
DTSTART:20270328T010000
END:DAYLIGHT
BEGIN:STANDARD
TZOFFSETFROM:+0200
TZOFFSETTO:+0100
TZNAME:CET
DTSTART:20271031T010000
END:STANDARD
END:VTIMEZONE
BEGIN:VEVENT
DTSTART;TZID=Europe/Amsterdam:20260720T100000
DTEND;TZID=Europe/Amsterdam:20260720T120000
DTSTAMP:20260424T174124
CREATED:20260121T083620Z
LAST-MODIFIED:20260121T142055Z
UID:752-1784541600-1784548800@repaircafekerkenzanen.nl
SUMMARY:Repair Café
DESCRIPTION:Een klein defect aan wat dan ook; wij zien de uitdaging van het repareren. Laat je verrassen en kom langs.
URL:https://repaircafekerkenzanen.nl/activiteit/repair-cafe-16/
LOCATION:Zaal 5
CATEGORIES:Repair Café
END:VEVENT
BEGIN:VEVENT
DTSTART;TZID=Europe/Amsterdam:20260701T193000
DTEND;TZID=Europe/Amsterdam:20260701T213000
DTSTAMP:20260424T174124
CREATED:20260121T083620Z
LAST-MODIFIED:20260121T142055Z
UID:751-1782934200-1782941400@repaircafekerkenzanen.nl
SUMMARY:Repair Café
DESCRIPTION:Een klein defect aan wat dan ook; wij zien de uitdaging van het repareren. Laat je verrassen en kom langs.
URL:https://repaircafekerkenzanen.nl/activiteit/repair-cafe-15/
LOCATION:Zaal 5
CATEGORIES:Repair Café
END:VEVENT
BEGIN:VEVENT
DTSTART;TZID=Europe/Amsterdam:20260615T100000
DTEND;TZID=Europe/Amsterdam:20260615T120000
DTSTAMP:20260424T174124
CREATED:20260121T083620Z
LAST-MODIFIED:20260121T142055Z
UID:750-1781517600-1781524800@repaircafekerkenzanen.nl
SUMMARY:Repair Café
DESCRIPTION:Een klein defect aan wat dan ook; wij zien de uitdaging van het repareren. Laat je verrassen en kom langs.
URL:https://repaircafekerkenzanen.nl/activiteit/repair-cafe-14/
LOCATION:Zaal 5
CATEGORIES:Repair Café
END:VEVENT
BEGIN:VEVENT
DTSTART;TZID=Europe/Amsterdam:20260602T193000
DTEND;TZID=Europe/Amsterdam:20260602T213000
DTSTAMP:20260424T174124
CREATED:20260121T083619Z
LAST-MODIFIED:20260121T142055Z
UID:749-1780428600-1780435800@repaircafekerkenzanen.nl
SUMMARY:Repair Café
DESCRIPTION:Een klein defect aan wat dan ook; wij zien de uitdaging van het repareren. Laat je verrassen en kom langs.
URL:https://repaircafekerkenzanen.nl/activiteit/repair-cafe-13/
LOCATION:Zaal 5
CATEGORIES:Repair Café
END:VEVENT
BEGIN:VEVENT
DTSTART;TZID=Europe/Amsterdam:20260518T100000
DTEND;TZID=Europe/Amsterdam:20260518T120000
DTSTAMP:20260424T174124
CREATED:20260121T083607Z
LAST-MODIFIED:20260121T142054Z
UID:743-1779098400-1779105600@repaircafekerkenzanen.nl
SUMMARY:Repair Café
DESCRIPTION:Een klein defect aan wat dan ook; wij zien de uitdaging van het repareren. Laat je verrassen en kom langs.
URL:https://repaircafekerkenzanen.nl/activiteit/repair-cafe-11/
LOCATION:Zaal 5
CATEGORIES:Repair Café
END:VEVENT
BEGIN:VEVENT
DTSTART;TZID=Europe/Amsterdam:20260506T193000
DTEND;TZID=Europe/Amsterdam:20260506T213000
DTSTAMP:20260424T174124
CREATED:20260121T083607Z
LAST-MODIFIED:20260121T142054Z
UID:742-1778095800-1778103000@repaircafekerkenzanen.nl
SUMMARY:Repair Café
DESCRIPTION:Een klein defect aan wat dan ook; wij zien de uitdaging van het repareren. Laat je verrassen en kom langs.
URL:https://repaircafekerkenzanen.nl/activiteit/repair-cafe-10/
LOCATION:Zaal 5
CATEGORIES:Repair Café
END:VEVENT
BEGIN:VEVENT
DTSTART;TZID=Europe/Amsterdam:20260420T100000
DTEND;TZID=Europe/Amsterdam:20260420T120000
DTSTAMP:20260424T174124
CREATED:20260121T083607Z
LAST-MODIFIED:20260121T142054Z
UID:741-1776679200-1776686400@repaircafekerkenzanen.nl
SUMMARY:Repair Café
DESCRIPTION:Een klein defect aan wat dan ook; wij zien de uitdaging van het repareren. Laat je verrassen en kom langs.
URL:https://repaircafekerkenzanen.nl/activiteit/repair-cafe-9/
LOCATION:Zaal 5
CATEGORIES:Repair Café
END:VEVENT
BEGIN:VEVENT
DTSTART;TZID=Europe/Amsterdam:20260401T193000
DTEND;TZID=Europe/Amsterdam:20260401T213000
DTSTAMP:20260424T174124
CREATED:20260121T083607Z
LAST-MODIFIED:20260121T142054Z
UID:740-1775071800-1775079000@repaircafekerkenzanen.nl
SUMMARY:Repair Café
DESCRIPTION:Een klein defect aan wat dan ook; wij zien de uitdaging van het repareren. Laat je verrassen en kom langs.
URL:https://repaircafekerkenzanen.nl/activiteit/repair-cafe-8/
LOCATION:Zaal 5
CATEGORIES:Repair Café
END:VEVENT
BEGIN:VEVENT
DTSTART;TZID=Europe/Amsterdam:20260316T100000
DTEND;TZID=Europe/Amsterdam:20260316T120000
DTSTAMP:20260424T174124
CREATED:20260121T083607Z
LAST-MODIFIED:20260121T142054Z
UID:744-1773655200-1773662400@repaircafekerkenzanen.nl
SUMMARY:Repair Café
DESCRIPTION:Een klein defect aan wat dan ook; wij zien de uitdaging van het repareren. Laat je verrassen en kom langs.
URL:https://repaircafekerkenzanen.nl/activiteit/repair-cafe-12/
LOCATION:Zaal 5
CATEGORIES:Repair Café
END:VEVENT
BEGIN:VEVENT
DTSTART;TZID=Europe/Amsterdam:20260304T193000
DTEND;TZID=Europe/Amsterdam:20260304T213000
DTSTAMP:20260424T174124
CREATED:20260121T083601Z
LAST-MODIFIED:20260121T142052Z
UID:738-1772652600-1772659800@repaircafekerkenzanen.nl
SUMMARY:Repair Café
DESCRIPTION:Een klein defect aan wat dan ook; wij zien de uitdaging van het repareren. Laat je verrassen en kom langs.
URL:https://repaircafekerkenzanen.nl/activiteit/repair-cafe-6/
LOCATION:Zaal 5
CATEGORIES:Repair Café
END:VEVENT
BEGIN:VEVENT
DTSTART;TZID=Europe/Amsterdam:20260216T100000
DTEND;TZID=Europe/Amsterdam:20260216T120000
DTSTAMP:20260424T174124
CREATED:20260121T083601Z
LAST-MODIFIED:20260121T142052Z
UID:737-1771236000-1771243200@repaircafekerkenzanen.nl
SUMMARY:Repair Café
DESCRIPTION:Een klein defect aan wat dan ook; wij zien de uitdaging van het repareren. Laat je verrassen en kom langs.
URL:https://repaircafekerkenzanen.nl/activiteit/repair-cafe-5/
LOCATION:Zaal 5
CATEGORIES:Repair Café
END:VEVENT
BEGIN:VEVENT
DTSTART;TZID=Europe/Amsterdam:20260204T193000
DTEND;TZID=Europe/Amsterdam:20260204T213000
DTSTAMP:20260424T174124
CREATED:20260121T083601Z
LAST-MODIFIED:20260121T142052Z
UID:736-1770233400-1770240600@repaircafekerkenzanen.nl
SUMMARY:Repair Café
DESCRIPTION:Een klein defect aan wat dan ook; wij zien de uitdaging van het repareren. Laat je verrassen en kom langs.
URL:https://repaircafekerkenzanen.nl/activiteit/repair-cafe-4/
LOCATION:Zaal 5
CATEGORIES:Repair Café
END:VEVENT
BEGIN:VEVENT
DTSTART;TZID=Europe/Amsterdam:20260119T100000
DTEND;TZID=Europe/Amsterdam:20260119T120000
DTSTAMP:20260424T174124
CREATED:20260121T083601Z
LAST-MODIFIED:20260121T142052Z
UID:735-1768816800-1768824000@repaircafekerkenzanen.nl
SUMMARY:Repair Café
DESCRIPTION:Een klein defect aan wat dan ook; wij zien de uitdaging van het repareren. Laat je verrassen en kom langs.
URL:https://repaircafekerkenzanen.nl/activiteit/repair-cafe-3/
LOCATION:Zaal 5
CATEGORIES:Repair Café
END:VEVENT
BEGIN:VEVENT
DTSTART;TZID=Europe/Amsterdam:20260107T193000
DTEND;TZID=Europe/Amsterdam:20260107T213000
DTSTAMP:20260424T174124
CREATED:20260121T083601Z
LAST-MODIFIED:20260121T142052Z
UID:734-1767814200-1767821400@repaircafekerkenzanen.nl
SUMMARY:Repair Café
DESCRIPTION:Een klein defect aan wat dan ook; wij zien de uitdaging van het repareren. Laat je verrassen en kom langs.
URL:https://repaircafekerkenzanen.nl/activiteit/repair-cafe-2/
LOCATION:Zaal 5
CATEGORIES:Repair Café
END:VEVENT
END:VCALENDAR